BEGIN:VCALENDAR
VERSION:2.0
PRODID:-//Plone.org//NONSGML plone.app.event//EN
X-WR-TIMEZONE:Europe/Berlin
BEGIN:VEVENT
SUMMARY:Udo Andraschke\, MA: "Ansichtssache. Über das Exponieren menschli
 cher Präparate"
DTSTART;TZID=Europe/Berlin:20250625T181500
DTEND;TZID=Europe/Berlin:20250625T194500
DTSTAMP:20260425T061006Z
UID:f714fcd13e1f49ca98bbe0be39ea1ec9@www.uni-marburg.de
ATTENDEE;CN="Udo Andraschke, MA";ROLE=REQ-PARTICIPANT:Udo Andraschke, MA
CREATED:20250604T133417Z
DESCRIPTION:https://www.uni-marburg.de/en/fb16/igphmmr/prfolder/events/202
 5-events/udo-andraschke-ma-ansichtssache-uber-das-exponieren-menschlicher-
 praparate\nLecture as part of the History of Science Colloquium at the Ins
 titute for the History of Pharmacy and Medicine
LAST-MODIFIED:20250604T133427Z
LOCATION:Lecture hall\, Roter Graben 10\, 35037 Marburg\, Germany
URL:https://www.uni-marburg.de/en/fb16/igphmmr/prfolder/events/2025-events
 /udo-andraschke-ma-ansichtssache-uber-das-exponieren-menschlicher-praparat
 e
END:VEVENT
BEGIN:VTIMEZONE
TZID:Europe/Berlin
X-LIC-LOCATION:Europe/Berlin
BEGIN:DAYLIGHT
DTSTART:20250330T030000
TZNAME:CEST
TZOFFSETFROM:+0100
TZOFFSETTO:+0200
END:DAYLIGHT
END:VTIMEZONE
END:VCALENDAR
