BEGIN:VCALENDAR
VERSION:2.0
PRODID:-//Plone.org//NONSGML plone.app.event//EN
X-WR-TIMEZONE:Europe/Berlin
BEGIN:VEVENT
SUMMARY:PD Dr. Francesco Roberg: Mathematik als Instrument des Pharmaziehi
 storikers
DTSTART;TZID=Europe/Berlin:20260121T181500
DTEND;TZID=Europe/Berlin:20260121T194500
DTSTAMP:20260425T050854Z
UID:1609524df47e41afbb9255f29d669413@www.uni-marburg.de
ATTENDEE;CN="PD Dr. Francesco Roberg";ROLE=REQ-PARTICIPANT:PD Dr. Francesc
 o Roberg
CREATED:20251107T120049Z
DESCRIPTION:https://www.uni-marburg.de/en/fb16/igphmmr/prfolder/events/202
 6-events/pd-dr-francesco-roberg-mathematik-als-instrument-des-pharmaziehis
 torikers\nLecture as part of the History of Science Colloquium at the Inst
 itute for the History of Pharmacy and Medicine
LAST-MODIFIED:20251107T120057Z
LOCATION:Hörsaal\, Roter Graben 10\, 35037 Marburg
URL:https://www.uni-marburg.de/en/fb16/igphmmr/prfolder/events/2026-events
 /pd-dr-francesco-roberg-mathematik-als-instrument-des-pharmaziehistorikers
END:VEVENT
BEGIN:VTIMEZONE
TZID:Europe/Berlin
X-LIC-LOCATION:Europe/Berlin
BEGIN:STANDARD
DTSTART:20251026T020000
TZNAME:CET
TZOFFSETFROM:+0200
TZOFFSETTO:+0100
END:STANDARD
END:VTIMEZONE
END:VCALENDAR
