BEGIN:VCALENDAR
VERSION:2.0
PRODID:-//Plone.org//NONSGML plone.app.event//EN
X-WR-TIMEZONE:Europe/Berlin
BEGIN:VEVENT
SUMMARY:Dr Dr Lea Münch: "Psychiatrieerfahrungen im Elsass. Lebensgeschic
 hten zwischen Strasbourg und Hadamar im Nationalsozialismus"
DTSTART;TZID=Europe/Berlin:20241023T181500
DTEND;TZID=Europe/Berlin:20241023T194500
DTSTAMP:20260420T071652Z
UID:137deb5177fe4259bef10cd99626105a@www.uni-marburg.de
ATTENDEE;CN="Dr Dr Lea Münch, University of Magdeburg";ROLE=REQ-PARTICIPA
 NT:Dr Dr Lea Münch, University of Magdeburg
CATEGORIES:history of pharmacy,history of medicine,Institute of the Histor
 y of Pharmacy and Medicine,History of Science Colloquium
CREATED:20241008T131654Z
DESCRIPTION:https://www.uni-marburg.de/en/fb16/igphmmr/prfolder/events/pre
 -2025-events/2024-10-23-lecture-muench\nHistory of Science Colloquium at I
 nstitute of the History of Pharmacy and Medicine
LAST-MODIFIED:20250604T125146Z
LOCATION:Lecture hall\, Roter Graben 10\, 35037 Marburg\, Germany
URL:https://www.uni-marburg.de/en/fb16/igphmmr/prfolder/events/pre-2025-ev
 ents/2024-10-23-lecture-muench
END:VEVENT
BEGIN:VTIMEZONE
TZID:Europe/Berlin
X-LIC-LOCATION:Europe/Berlin
BEGIN:DAYLIGHT
DTSTART:20240331T030000
TZNAME:CEST
TZOFFSETFROM:+0100
TZOFFSETTO:+0200
END:DAYLIGHT
END:VTIMEZONE
END:VCALENDAR
