BEGIN:VCALENDAR
VERSION:2.0
PRODID:-//Plone.org//NONSGML plone.app.event//EN
X-WR-TIMEZONE:Europe/Berlin
BEGIN:VEVENT
SUMMARY:Dr Natalia Bachour: "Doctoren\, Wundärzte und Pfuscher: Die Ärzt
 e im Osmanischen Reich um 1800 nach der Beschreibung von Ulrich Jasper See
 tzen"
DTSTART;TZID=Europe/Berlin:20241030T181500
DTEND;TZID=Europe/Berlin:20241030T194500
DTSTAMP:20260421T032718Z
UID:faaa88600d9445abb2687a5dfd23bb70@www.uni-marburg.de
ATTENDEE;CN="Dr Natalia Bachour, University of Zürich";ROLE=REQ-PARTICIPA
 NT:Dr Natalia Bachour, University of Zürich
CATEGORIES:history of pharmacy,history of medicine,Institute of the Histor
 y of Pharmacy and Medicine,History of Science Colloquium
CREATED:20241008T131654Z
DESCRIPTION:https://www.uni-marburg.de/en/fb16/igphmmr/prfolder/events/pre
 -2025-events/2024-10-30-lecture-bachour\nHistory of Science Colloquium at 
 Institute of the History of Pharmacy and Medicine
LAST-MODIFIED:20250604T125147Z
LOCATION:Lecture hall\, Roter Graben 10\, 35037 Marburg\, Germany
URL:https://www.uni-marburg.de/en/fb16/igphmmr/prfolder/events/pre-2025-ev
 ents/2024-10-30-lecture-bachour
END:VEVENT
BEGIN:VTIMEZONE
TZID:Europe/Berlin
X-LIC-LOCATION:Europe/Berlin
BEGIN:STANDARD
DTSTART:20241027T020000
TZNAME:CET
TZOFFSETFROM:+0200
TZOFFSETTO:+0100
END:STANDARD
END:VTIMEZONE
END:VCALENDAR
