BEGIN:VCALENDAR
VERSION:2.0
PRODID:-//Plone.org//NONSGML plone.app.event//EN
X-WR-TIMEZONE:Europe/Berlin
BEGIN:VEVENT
SUMMARY:Dr Ananda Chopra: "Moderne Medizin und traditionelles Wissen im ze
 itgenössischen Āyurveda – Anatomie und Geschichtsbild bei Gaṇanātha
  Sena (1877–1945)"
DTSTART;TZID=Europe/Berlin:20241113T181500
DTEND;TZID=Europe/Berlin:20241113T194500
DTSTAMP:20260421T160403Z
UID:d6899ceae7524bc0b84a2a2c98163d88@www.uni-marburg.de
ATTENDEE;CN="Dr Ananda Chopra, Ayurveda-Clinic Kassel";ROLE=REQ-PARTICIPAN
 T:Dr Ananda Chopra, Ayurveda-Clinic Kassel
CATEGORIES:history of pharmacy,history of medicine,Institute of the Histor
 y of Pharmacy and Medicine,History of Science Colloquium
CREATED:20241008T131654Z
DESCRIPTION:https://www.uni-marburg.de/en/fb16/igphmmr/prfolder/events/pre
 -2025-events/2024-11-13-lecture-chopra\nHistory of Science Colloquium at I
 nstitute of the History of Pharmacy and Medicine
LAST-MODIFIED:20250604T125145Z
LOCATION:Lecture hall\, Roter Graben 10\, 35037 Marburg\, Germany
URL:https://www.uni-marburg.de/en/fb16/igphmmr/prfolder/events/pre-2025-ev
 ents/2024-11-13-lecture-chopra
END:VEVENT
BEGIN:VTIMEZONE
TZID:Europe/Berlin
X-LIC-LOCATION:Europe/Berlin
BEGIN:STANDARD
DTSTART:20241027T020000
TZNAME:CET
TZOFFSETFROM:+0200
TZOFFSETTO:+0100
END:STANDARD
END:VTIMEZONE
END:VCALENDAR
