BEGIN:VCALENDAR
VERSION:2.0
PRODID:-//Plone.org//NONSGML plone.app.event//EN
X-WR-TIMEZONE:Europe/Berlin
BEGIN:VEVENT
SUMMARY:Dr Marion Hulverscheidt: "Friedrich Karl Kleine (1869–1951) – 
 ein wissenschaftliches Leben von Kolonialismus bis zum Nationalsozialismus
 "
DTSTART;TZID=Europe/Berlin:20241211T181500
DTEND;TZID=Europe/Berlin:20241211T194500
DTSTAMP:20260421T065217Z
UID:bb661b02983546c4bec8d29d00491c1e@www.uni-marburg.de
ATTENDEE;CN="Dr Marion Hulverscheidt, University of Kassel";ROLE=REQ-PARTI
 CIPANT:Dr Marion Hulverscheidt, University of Kassel
CATEGORIES:history of pharmacy,history of medicine,Institute of the Histor
 y of Pharmacy and Medicine,History of Science Colloquium
CREATED:20241008T131654Z
DESCRIPTION:https://www.uni-marburg.de/en/fb16/igphmmr/prfolder/events/pre
 -2025-events/2024-12-11-lecture-hulverscheidt\nHistory of Science Colloqui
 um at Institute of the History of Pharmacy and Medicine
LAST-MODIFIED:20250604T125334Z
LOCATION:Lecture hall\, Roter Graben 10\, 35037 Marburg\, Germany
URL:https://www.uni-marburg.de/en/fb16/igphmmr/prfolder/events/pre-2025-ev
 ents/2024-12-11-lecture-hulverscheidt
END:VEVENT
BEGIN:VTIMEZONE
TZID:Europe/Berlin
X-LIC-LOCATION:Europe/Berlin
BEGIN:STANDARD
DTSTART:20241027T020000
TZNAME:CET
TZOFFSETFROM:+0200
TZOFFSETTO:+0100
END:STANDARD
END:VTIMEZONE
END:VCALENDAR
