BEGIN:VCALENDAR
VERSION:2.0
PRODID:-//Plone.org//NONSGML plone.app.event//EN
X-WR-TIMEZONE:Europe/Berlin
BEGIN:VEVENT
SUMMARY:Invitation to the public part of the international workshop "Decol
 onising academic disciplines and collections"
DTSTART;TZID=Europe/Berlin:20230607T130000
DTEND;TZID=Europe/Berlin:20230607T170000
DTSTAMP:20260425T214849Z
UID:576619a8c32a4f29ae95969fc99c4c32@www.uni-marburg.de
ATTENDEE;CN="Chair: Benedikt Stuchtey";ROLE=REQ-PARTICIPANT:Chair: Benedik
 t Stuchtey
ATTENDEE;CN="Opening lecture: Jos van Beurden (Amsterdam) ";ROLE=REQ-PARTI
 CIPANT:Opening lecture: Jos van Beurden (Amsterdam) 
ATTENDEE;CN="Further lectures by: Bruno Brulon Soares (St. Andrews), Jan K
 üver (Witzenhausen/Iringa), Tanja Pommerening (Marburg)";ROLE=REQ-PARTICI
 PANT:Further lectures by: Bruno Brulon Soares (St. Andrews), Jan Küver (W
 itzenhausen/Iringa), Tanja Pommerening (Marburg)
ATTENDEE;CN=;ROLE=REQ-PARTICIPANT:
CREATED:20230530T090354Z
DESCRIPTION:https://www.uni-marburg.de/en/fb16/igphmmr/prfolder/events/pre
 -2025-events/invitation-to-the-public-part-of-the-international-workshop-d
 ecolonising-academic-disciplines-and-collections\n
LAST-MODIFIED:20250604T125144Z
LOCATION:University Library Marburg: Lecture Hall\, Deutschhausstraße 9\,
  35037 Marburg (Lahn)
URL:https://www.uni-marburg.de/en/fb16/igphmmr/prfolder/events/pre-2025-ev
 ents/invitation-to-the-public-part-of-the-international-workshop-decolonis
 ing-academic-disciplines-and-collections
END:VEVENT
BEGIN:VTIMEZONE
TZID:Europe/Berlin
X-LIC-LOCATION:Europe/Berlin
BEGIN:DAYLIGHT
DTSTART:20230326T030000
TZNAME:CEST
TZOFFSETFROM:+0100
TZOFFSETTO:+0200
END:DAYLIGHT
END:VTIMEZONE
END:VCALENDAR
