BEGIN:VCALENDAR
VERSION:2.0
PRODID:-//Plone.org//NONSGML plone.app.event//EN
X-WR-TIMEZONE:Europe/Berlin
BEGIN:VEVENT
SUMMARY:Microbiology Seminar Series: Protein transport in bacteria: multip
 le pathways and common concepts
DTSTART;TZID=Europe/Berlin:20230320T160000
DTEND;TZID=Europe/Berlin:20230320T170000
DTSTAMP:20260421T180627Z
UID:e95b4b772f4e42f9b1efac4e5e1aa2ff@www.uni-marburg.de
ATTENDEE;CN="Prof. Dr. Hans-Georg Koch; Institute for Biochemistry and Mol
 ecularbiology, Albert Ludwigs University Freiburg";ROLE=REQ-PARTICIPANT:Pr
 of. Dr. Hans-Georg Koch; Institute for Biochemistry and Molecularbiology, 
 Albert Ludwigs University Freiburg
CREATED:20230224T141453Z
DESCRIPTION:https://www.uni-marburg.de/en/fb17/tree-m/highlights/dates-eve
 nts/microbiology-seminar-series-protein-transport-in-bacteria-multiple-pat
 hways-and-common-concepts\n
LAST-MODIFIED:20240827T182512Z
LOCATION:MPI for Terrestrial Microbiology\, Lecture Hall / Hybrid
URL:https://www.uni-marburg.de/en/fb17/tree-m/highlights/dates-events/micr
 obiology-seminar-series-protein-transport-in-bacteria-multiple-pathways-an
 d-common-concepts
END:VEVENT
BEGIN:VTIMEZONE
TZID:Europe/Berlin
X-LIC-LOCATION:Europe/Berlin
BEGIN:STANDARD
DTSTART:20221030T020000
TZNAME:CET
TZOFFSETFROM:+0200
TZOFFSETTO:+0100
END:STANDARD
END:VTIMEZONE
END:VCALENDAR
