BEGIN:VCALENDAR
VERSION:2.0
PRODID:-//Plone.org//NONSGML plone.app.event//EN
X-WR-TIMEZONE:Europe/Berlin
BEGIN:VEVENT
SUMMARY:Synmikro Lunch Seminar: λ-Red/CRISPR: “marker”-less and “sc
 ar”-less genome editing tool in K. pneumoniae
DTSTART;TZID=Europe/Berlin:20230302T120000
DTEND;TZID=Europe/Berlin:20230302T130000
DTSTAMP:20260425T043654Z
UID:a7f4d00e14ef4485be6e0793475cd8a2@www.uni-marburg.de
ATTENDEE;CN="Eslam Elsayed (AG Becker)";ROLE=REQ-PARTICIPANT:Eslam Elsayed
  (AG Becker)
CREATED:20230224T120540Z
DESCRIPTION:https://www.uni-marburg.de/en/fb17/tree-m/highlights/dates-eve
 nts/synmikro-lunch-seminar-201cl-red-crispr-201cmarker201d-less-and-201csc
 ar201d-less-genome-editing-tool-in-k-pneumoniae201d\n
LAST-MODIFIED:20240827T182512Z
LOCATION:Lecture Hall\, Center for Synthetic Microbiology
URL:https://www.uni-marburg.de/en/fb17/tree-m/highlights/dates-events/synm
 ikro-lunch-seminar-201cl-red-crispr-201cmarker201d-less-and-201cscar201d-l
 ess-genome-editing-tool-in-k-pneumoniae201d
END:VEVENT
BEGIN:VTIMEZONE
TZID:Europe/Berlin
X-LIC-LOCATION:Europe/Berlin
BEGIN:STANDARD
DTSTART:20221030T020000
TZNAME:CET
TZOFFSETFROM:+0200
TZOFFSETTO:+0100
END:STANDARD
END:VTIMEZONE
END:VCALENDAR
