BEGIN:VCALENDAR
VERSION:2.0
PRODID:-//Plone.org//NONSGML plone.app.event//EN
X-WR-TIMEZONE:Europe/Berlin
BEGIN:VEVENT
SUMMARY:Synmikro Lunch Seminar: Interplay of lytic phages and the stringen
 t response
DTSTART;TZID=Europe/Berlin:20230411T120000
DTEND;TZID=Europe/Berlin:20230411T130000
DTSTAMP:20260421T100205Z
UID:88ea8ff02c2e43f98aa1fdc54a1042c4@www.uni-marburg.de
ATTENDEE;CN="Ekaterina Jalomo Khayrova (AG Bange)";ROLE=REQ-PARTICIPANT:Ek
 aterina Jalomo Khayrova (AG Bange)
CREATED:20230224T140211Z
DESCRIPTION:https://www.uni-marburg.de/en/fb17/tree-m/highlights/dates-eve
 nts/synmikro-lunch-seminar-interplay-of-lytic-phages-and-the-stringent-res
 ponse\n
LAST-MODIFIED:20240827T182512Z
LOCATION:Lecture Hall\, Center for Synthetic Microbiology
URL:https://www.uni-marburg.de/en/fb17/tree-m/highlights/dates-events/synm
 ikro-lunch-seminar-interplay-of-lytic-phages-and-the-stringent-response
END:VEVENT
BEGIN:VTIMEZONE
TZID:Europe/Berlin
X-LIC-LOCATION:Europe/Berlin
BEGIN:DAYLIGHT
DTSTART:20230326T030000
TZNAME:CEST
TZOFFSETFROM:+0100
TZOFFSETTO:+0200
END:DAYLIGHT
END:VTIMEZONE
END:VCALENDAR
