BEGIN:VCALENDAR
VERSION:2.0
PRODID:-//Plone.org//NONSGML plone.app.event//EN
X-WR-TIMEZONE:Europe/Berlin
BEGIN:VEVENT
SUMMARY:Translational Proteomics in Marburg: The Challenge of Extreme Dyna
 mic Protein Concentration Range
DTSTART;TZID=Europe/Berlin:20231204T181500
DTSTAMP:20260421T230049Z
UID:d3c8836c106b4afd82130479f46877cf@www.uni-marburg.de
ATTENDEE;CN="Prof. Dr. Johannes Graumann, Philipps-University Marburg";ROL
 E=REQ-PARTICIPANT:Prof. Dr. Johannes Graumann, Philipps-University Marburg
CREATED:20231026T081021Z
DESCRIPTION:https://www.uni-marburg.de/en/fb17/tree-m/highlights/dates-eve
 nts/translational-proteomics-in-marburg-the-challenge-of-extreme-dynamic-p
 rotein-concentration-range\nDPhG-Vortrag im Wintersemester 2023/24
LAST-MODIFIED:20240827T182513Z
LOCATION:Großer Hörsaal\, Institut für Pharmazeutische Chemie\, Marbach
 er Weg 10 (M03)\, 35037 Marburg
URL:https://www.uni-marburg.de/en/fb17/tree-m/highlights/dates-events/tran
 slational-proteomics-in-marburg-the-challenge-of-extreme-dynamic-protein-c
 oncentration-range
END:VEVENT
BEGIN:VTIMEZONE
TZID:Europe/Berlin
X-LIC-LOCATION:Europe/Berlin
BEGIN:STANDARD
DTSTART:20231029T020000
TZNAME:CET
TZOFFSETFROM:+0200
TZOFFSETTO:+0100
END:STANDARD
END:VTIMEZONE
END:VCALENDAR
