BEGIN:VCALENDAR
VERSION:2.0
PRODID:-//Plone.org//NONSGML plone.app.event//EN
X-WR-TIMEZONE:Europe/Berlin
BEGIN:VEVENT
SUMMARY:Minisymposium on Extracellular Vesicles
DTSTART;TZID=Europe/Berlin:20220224T090000
DTEND;TZID=Europe/Berlin:20220224T120000
DTSTAMP:20260419T224140Z
UID:125dffb253a84a61bf5b5b71348e9da9@www.uni-marburg.de
ATTENDEE;CN="- Assoc. Prof. Dr. Maria Kaparakis-Liaskos, La Trobe Universi
 ty, Melbourne, Australia";ROLE=REQ-PARTICIPANT:- Assoc. Prof. Dr. Maria Ka
 parakis-Liaskos, La Trobe University, Melbourne, Australia
ATTENDEE;CN="- Prof. Dr. Yong Song Gho, Pohang University of Science and T
 echnology, Pohang, South Korea";ROLE=REQ-PARTICIPANT:- Prof. Dr. Yong Song
  Gho, Pohang University of Science and Technology, Pohang, South Korea
ATTENDEE;CN="- Dr. Rienk Nieuwland, Amsterdam University Medical Centers, 
 Amsterdam, The Netherlands";ROLE=REQ-PARTICIPANT:- Dr. Rienk Nieuwland, Am
 sterdam University Medical Centers, Amsterdam, The Netherlands
CREATED:20220125T081806Z
DESCRIPTION:https://www.uni-marburg.de/en/fb20/diffusible-signals/aktuelle
 s/events/minisymposium-on-extracellular-vesicles\n
LAST-MODIFIED:20220222T090730Z
LOCATION:Online Event via Zoom
URL:https://www.uni-marburg.de/en/fb20/diffusible-signals/aktuelles/events
 /minisymposium-on-extracellular-vesicles
END:VEVENT
BEGIN:VTIMEZONE
TZID:Europe/Berlin
X-LIC-LOCATION:Europe/Berlin
BEGIN:STANDARD
DTSTART:20211031T020000
TZNAME:CET
TZOFFSETFROM:+0200
TZOFFSETTO:+0100
END:STANDARD
END:VTIMEZONE
END:VCALENDAR
