BEGIN:VCALENDAR
VERSION:2.0
PRODID:-//Plone.org//NONSGML plone.app.event//EN
X-WR-TIMEZONE:Europe/Berlin
BEGIN:VEVENT
SUMMARY:2nd Annual PEGASUS Retreat
DTSTART;TZID=Europe/Berlin:20201022T140000
DTEND;TZID=Europe/Berlin:20201023T140000
DTSTAMP:20260424T031059Z
UID:c7de5f64fd684777ac9934fc658dbcb4@www.uni-marburg.de
ATTENDEE;CN="Prof. Dr. Hertl";ROLE=REQ-PARTICIPANT:Prof. Dr. Hertl
ATTENDEE;CN="Prof. Dr. Pfützner";ROLE=REQ-PARTICIPANT:Prof. Dr. Pfützner
ATTENDEE;CN="Prof. Dr. Yazdi";ROLE=REQ-PARTICIPANT:Prof. Dr. Yazdi
ATTENDEE;CN="Prof. Dr. Waschke";ROLE=REQ-PARTICIPANT:Prof. Dr. Waschke
ATTENDEE;CN="Dr. Vielmuth";ROLE=REQ-PARTICIPANT:Dr. Vielmuth
ATTENDEE;CN=;ROLE=REQ-PARTICIPANT:
ATTENDEE;CN="more to be announced soon";ROLE=REQ-PARTICIPANT:more to be an
 nounced soon
CREATED:20200828T134607Z
DESCRIPTION:https://www.uni-marburg.de/en/fb20/pegasus/aktuelles/events/2n
 d-annual-retreat\nOctober 2020
LAST-MODIFIED:20200902T065458Z
LOCATION:Steigenberger Airport Hotel Frankfurt
URL:https://www.uni-marburg.de/en/fb20/pegasus/aktuelles/events/2nd-annual
 -retreat
END:VEVENT
BEGIN:VTIMEZONE
TZID:Europe/Berlin
X-LIC-LOCATION:Europe/Berlin
BEGIN:DAYLIGHT
DTSTART:20200329T030000
TZNAME:CEST
TZOFFSETFROM:+0100
TZOFFSETTO:+0200
END:DAYLIGHT
END:VTIMEZONE
END:VCALENDAR
