BEGIN:VCALENDAR
VERSION:2.0
PRODID:-//Plone.org//NONSGML plone.app.event//EN
X-WR-TIMEZONE:Europe/Berlin
BEGIN:VEVENT
SUMMARY:2019 Annual Celebration & 12th Marburg Lecture on International Cr
 iminal Law
DTSTART;TZID=Europe/Berlin:20191205T181500
DTEND;TZID=Europe/Berlin:20191205T220000
DTSTAMP:20260424T113306Z
UID:524a3b257c6544e0b017485241a0bd0a@www.uni-marburg.de
ATTENDEE;CN="Prof. Dr. Sabine Andresen (Goethe University Frankfurt am Mai
 n) Prof. Dr. Stefanie Bock (Philipps University Marburg) Prof. Dr. Jens Pu
 schke (Philipps University Marburg)";ROLE=REQ-PARTICIPANT:Prof. Dr. Sabine
  Andresen (Goethe University Frankfurt am Main) Prof. Dr. Stefanie Bock (P
 hilipps University Marburg) Prof. Dr. Jens Puschke (Philipps University Ma
 rburg)
CREATED:20191119T161749Z
DESCRIPTION:https://www.uni-marburg.de/en/icwc/current-events/dates-events
 /2019-annual-celebration-12th-marburg-lecture-on-international-criminal-la
 w\nThe ICWC cordially invites all those interested to its annual celebrati
 on on 5 December at 6 p.m. c.t. For the 12th time also the Marburg Lecture
  on International Criminal Law takes place.
LAST-MODIFIED:20191119T161938Z
LOCATION:Alte Aula\, Lahntor 3\, Philipps-Universität Marburg
URL:https://www.uni-marburg.de/en/icwc/current-events/dates-events/2019-an
 nual-celebration-12th-marburg-lecture-on-international-criminal-law
END:VEVENT
BEGIN:VTIMEZONE
TZID:Europe/Berlin
X-LIC-LOCATION:Europe/Berlin
BEGIN:STANDARD
DTSTART:20191027T020000
TZNAME:CET
TZOFFSETFROM:+0200
TZOFFSETTO:+0100
END:STANDARD
END:VTIMEZONE
END:VCALENDAR
