BEGIN:VCALENDAR
VERSION:2.0
PRODID:-//Plone.org//NONSGML plone.app.event//EN
X-WR-TIMEZONE:Europe/Berlin
BEGIN:VEVENT
SUMMARY:Film Screening "The White Line" and Subsequent Discussion
DTSTART;TZID=Europe/Berlin:20200228T193000
DTSTAMP:20260422T112051Z
UID:15c99cc1f95c42deb940c0b08231dfe2@www.uni-marburg.de
CREATED:20200128T133619Z
DESCRIPTION:https://www.uni-marburg.de/en/icwc/current-events/dates-events
 /film-screening-the-white-line-and-subsequent-discussion\nEuropean premier
 e of the film "The White Line" about a love story between a Black woman an
 d a White man during Apartheid in Namibia and subsequent discussion with d
 irector Desiree Kahikopo
LAST-MODIFIED:20200128T135137Z
LOCATION:Capitol\, Biegenstraße
URL:https://www.uni-marburg.de/en/icwc/current-events/dates-events/film-sc
 reening-the-white-line-and-subsequent-discussion
END:VEVENT
BEGIN:VTIMEZONE
TZID:Europe/Berlin
X-LIC-LOCATION:Europe/Berlin
BEGIN:STANDARD
DTSTART:20191027T020000
TZNAME:CET
TZOFFSETFROM:+0200
TZOFFSETTO:+0100
END:STANDARD
END:VTIMEZONE
END:VCALENDAR
