BEGIN:VCALENDAR
VERSION:2.0
PRODID:-//Plone.org//NONSGML plone.app.event//EN
X-WR-TIMEZONE:Europe/Berlin
BEGIN:VEVENT
SUMMARY:ICWC Annual Celebration and  the 16th Marburg Lecture on Internati
 onal Criminal Law
DTSTART;TZID=Europe/Berlin:20251119T180000
DTSTAMP:20260424T232147Z
UID:c7941decf34f4f4e906779424ca72bf4@www.uni-marburg.de
CATEGORIES:()
CREATED:20250703T090728Z
DESCRIPTION:https://www.uni-marburg.de/en/icwc/current-events/dates-events
 /jahresfeier-des-icwc-und-16-marburger-vorlesung-zum-voelkerstrafrecht\n
LAST-MODIFIED:20251006T105150Z
LOCATION:DSA-Building in Marburg\, Pilgrimstein 16\, 35037 Marburg
URL:https://www.uni-marburg.de/en/icwc/current-events/dates-events/jahresf
 eier-des-icwc-und-16-marburger-vorlesung-zum-voelkerstrafrecht
END:VEVENT
BEGIN:VTIMEZONE
TZID:Europe/Berlin
X-LIC-LOCATION:Europe/Berlin
BEGIN:STANDARD
DTSTART:20251026T020000
TZNAME:CET
TZOFFSETFROM:+0200
TZOFFSETTO:+0100
END:STANDARD
END:VTIMEZONE
END:VCALENDAR
