BEGIN:VCALENDAR
VERSION:2.0
PRODID:-//Plone.org//NONSGML plone.app.event//EN
X-WR-TIMEZONE:Europe/Berlin
BEGIN:VEVENT
SUMMARY:Study trip to Namibia
DTSTART;VALUE=DATE:20191208
DTEND;VALUE=DATE:20191220
DTSTAMP:20260422T112049Z
UID:8f60989aff6541298123cb6b5decf0de@www.uni-marburg.de
ATTENDEE;CN="Dr. Wolfgang Form";ROLE=REQ-PARTICIPANT:Dr. Wolfgang Form
CREATED:20191008T175026Z
DESCRIPTION:https://www.uni-marburg.de/en/icwc/current-events/dates-events
 /studytriptonamibia\nIn the winter semester 2019/2020 the ICWC organizes a
  study trip to Namibia. Applications from students are accepted until 10 A
 pril 2019.
LAST-MODIFIED:20191008T175400Z
LOCATION:Namibia
URL:https://www.uni-marburg.de/en/icwc/current-events/dates-events/studytr
 iptonamibia
END:VEVENT
END:VCALENDAR
