BEGIN:VCALENDAR
VERSION:2.0
PRODID:-//Plone.org//NONSGML plone.app.event//EN
X-WR-TIMEZONE:Europe/Berlin
BEGIN:VEVENT
SUMMARY:Symposium "From the Crimes to the Beginning of the Judicial Reappr
 aisal of National Socialism"
DTSTART;VALUE=DATE:20251119
DTEND;VALUE=DATE:20251121
DTSTAMP:20260426T002709Z
UID:38430e50ffd84292a09ac26f1cf05305@www.uni-marburg.de
CATEGORIES:()
CREATED:20250703T084010Z
DESCRIPTION:https://www.uni-marburg.de/en/icwc/current-events/dates-events
 /symposium-from-the-crimes-to-the-beginning-of-the-judicial-reappraisal-of
 -national-socialism\nOn 20 November 2025\, the start of the Nuremberg Majo
 r War Crimes Trial will mark its 80th anniversary. On this occasion\, the 
 ICWC is organizing a two-day symposium. As part of the event\, the ICWC An
 nual Celebration\, featuring the 16th Marburg Lecture on International Cri
 minal Law\, will also take place on 19 November.
LAST-MODIFIED:20251006T105249Z
LOCATION:Musizierhaus im Alten Botanischen Garten in Marburg
URL:https://www.uni-marburg.de/en/icwc/current-events/dates-events/symposi
 um-from-the-crimes-to-the-beginning-of-the-judicial-reappraisal-of-nationa
 l-socialism
END:VEVENT
END:VCALENDAR
