BEGIN:VCALENDAR
VERSION:2.0
PRODID:-//Plone.org//NONSGML plone.app.event//EN
X-WR-TIMEZONE:Europe/Berlin
BEGIN:VEVENT
SUMMARY:Online Seminar: House Hunting in Marburg
DTSTART;TZID=Europe/Berlin:20241011T120000
DTEND;TZID=Europe/Berlin:20241011T133000
DTSTAMP:20260422T025733Z
UID:77a9f98bb3d64ec49df157879356049b@www.uni-marburg.de
CREATED:20230207T184955Z
DESCRIPTION:https://www.uni-marburg.de/en/international/news-international
 /events/2024/accomodation-information-late\n
LAST-MODIFIED:20250602T114821Z
LOCATION:https://webconf.hrz.uni-marburg.de/n/rooms/tme-pbk-9co-wrt/join
URL:https://www.uni-marburg.de/en/international/news-international/events/
 2024/accomodation-information-late
END:VEVENT
BEGIN:VTIMEZONE
TZID:Europe/Berlin
X-LIC-LOCATION:Europe/Berlin
BEGIN:DAYLIGHT
DTSTART:20240331T030000
TZNAME:CEST
TZOFFSETFROM:+0100
TZOFFSETTO:+0200
END:DAYLIGHT
END:VTIMEZONE
END:VCALENDAR
