BEGIN:VCALENDAR
VERSION:2.0
PRODID:-//Plone.org//NONSGML plone.app.event//EN
X-WR-TIMEZONE:Europe/Berlin
BEGIN:VEVENT
SUMMARY:Body Language and Voice - A Factor for Your Study Life and Your Ca
 reer
DTSTART;TZID=Europe/Berlin:20241213T101500
DTEND;TZID=Europe/Berlin:20241213T141500
DTSTAMP:20260421T100430Z
UID:f38aa295b038409282f6297d5f1841b9@www.uni-marburg.de
CREATED:20241028T145024Z
DESCRIPTION:https://www.uni-marburg.de/en/international/news-international
 /events/2024/body-language\nWorkshop for degree-seeking international stud
 ents
LAST-MODIFIED:20250602T115204Z
LOCATION:Deutschhausstr. 12\, 35037 Marburg\, room 00A03
URL:https://www.uni-marburg.de/en/international/news-international/events/
 2024/body-language
END:VEVENT
BEGIN:VTIMEZONE
TZID:Europe/Berlin
X-LIC-LOCATION:Europe/Berlin
BEGIN:STANDARD
DTSTART:20241027T020000
TZNAME:CET
TZOFFSETFROM:+0200
TZOFFSETTO:+0100
END:STANDARD
END:VTIMEZONE
END:VCALENDAR
