BEGIN:VCALENDAR
VERSION:2.0
PRODID:-//Plone.org//NONSGML plone.app.event//EN
X-WR-TIMEZONE:Europe/Berlin
BEGIN:VEVENT
SUMMARY:Career Fair "Karriere der Vielfalt" ("Career of Diversity")
DTSTART;TZID=Europe/Berlin:20241128T100000
DTEND;TZID=Europe/Berlin:20241128T160000
DTSTAMP:20260422T021549Z
UID:b9330117d78e42f88559e418c4606c8e@www.uni-marburg.de
CREATED:20241025T092919Z
DESCRIPTION:https://www.uni-marburg.de/en/international/news-international
 /events/2024/career-fair\nThe career fair “Karriere der Vielfalt” is a
  meeting place for talents from the university and various employers.
LAST-MODIFIED:20260312T124510Z
LOCATION:Erwin-Piscator-Haus\, Biegenstraße 15\, 35037 Marburg
URL:https://www.uni-marburg.de/en/international/news-international/events/
 2024/career-fair
END:VEVENT
BEGIN:VTIMEZONE
TZID:Europe/Berlin
X-LIC-LOCATION:Europe/Berlin
BEGIN:STANDARD
DTSTART:20241027T020000
TZNAME:CET
TZOFFSETFROM:+0200
TZOFFSETTO:+0100
END:STANDARD
END:VTIMEZONE
END:VCALENDAR
