BEGIN:VCALENDAR
VERSION:2.0
PRODID:-//Plone.org//NONSGML plone.app.event//EN
X-WR-TIMEZONE:Europe/Berlin
BEGIN:VEVENT
SUMMARY:Debattierclub/debating club
DTSTART;TZID=Europe/Berlin:20240122T190000
DTSTAMP:20260425T215438Z
UID:29cc37b3636f4e738e22a1f1f3ebb8f0@www.uni-marburg.de
RRULE:FREQ=WEEKLY;UNTIL=20241223T000000;BYDAY=MO
CREATED:20240116T124716Z
DESCRIPTION:https://www.uni-marburg.de/en/international/news-international
 /events/2024/debattierclub-debating-club\n
LAST-MODIFIED:20250602T114439Z
LOCATION:Präsenz (siehe Webpage unten)
URL:https://www.uni-marburg.de/en/international/news-international/events/
 2024/debattierclub-debating-club
END:VEVENT
BEGIN:VTIMEZONE
TZID:Europe/Berlin
X-LIC-LOCATION:Europe/Berlin
BEGIN:STANDARD
DTSTART:20231029T020000
TZNAME:CET
TZOFFSETFROM:+0200
TZOFFSETTO:+0100
END:STANDARD
END:VTIMEZONE
END:VCALENDAR
