BEGIN:VCALENDAR
VERSION:2.0
PRODID:-//Plone.org//NONSGML plone.app.event//EN
X-WR-TIMEZONE:Europe/Berlin
BEGIN:VEVENT
SUMMARY:Info Talks on DFG Funding Opportunities for Research Careers: DFG 
 Funding Opportunities for Postdocs
DTSTART;TZID=Europe/Berlin:20240829T160000
DTEND;TZID=Europe/Berlin:20240829T173000
DTSTAMP:20260422T025743Z
UID:8c6ef110e7ed4a1fa21d52ab12b47495@www.uni-marburg.de
CREATED:20240118T104742Z
DESCRIPTION:https://www.uni-marburg.de/en/international/news-international
 /events/2024/dfg-funding-opportunities-for-postdocs\n
LAST-MODIFIED:20250602T114448Z
LOCATION:Online
URL:https://www.uni-marburg.de/en/international/news-international/events/
 2024/dfg-funding-opportunities-for-postdocs
END:VEVENT
BEGIN:VTIMEZONE
TZID:Europe/Berlin
X-LIC-LOCATION:Europe/Berlin
BEGIN:DAYLIGHT
DTSTART:20240331T030000
TZNAME:CEST
TZOFFSETFROM:+0100
TZOFFSETTO:+0200
END:DAYLIGHT
END:VTIMEZONE
END:VCALENDAR
