BEGIN:VCALENDAR
VERSION:2.0
PRODID:-//Plone.org//NONSGML plone.app.event//EN
X-WR-TIMEZONE:Europe/Berlin
BEGIN:VEVENT
SUMMARY:EUPeace Teaching Europe Conference\, 12-13 December 2024
DTSTART;VALUE=DATE:20241212
DTEND;VALUE=DATE:20241214
DTSTAMP:20260426T021811Z
UID:8cf682e6af534fe5a37cd249f64174a5@www.uni-marburg.de
CREATED:20241203T145947Z
DESCRIPTION:https://www.uni-marburg.de/en/international/news-international
 /events/2024/eupeace-teaching-europe-conference-12-13-december-2024\n
LAST-MODIFIED:20250602T115201Z
LOCATION:Online
URL:https://www.uni-marburg.de/en/international/news-international/events/
 2024/eupeace-teaching-europe-conference-12-13-december-2024
END:VEVENT
END:VCALENDAR
