BEGIN:VCALENDAR
VERSION:2.0
PRODID:-//Plone.org//NONSGML plone.app.event//EN
X-WR-TIMEZONE:Europe/Berlin
BEGIN:VEVENT
SUMMARY:Fit for Germany! An Intercultural Awareness Training
DTSTART;TZID=Europe/Berlin:20240320T150000
DTEND;TZID=Europe/Berlin:20240320T183000
DTSTAMP:20260425T030547Z
UID:8916937de2f240458b1675e12e8050ba@www.uni-marburg.de
CREATED:20240116T125434Z
DESCRIPTION:https://www.uni-marburg.de/en/international/news-international
 /events/2024/fit-for-germany-an-intercultural-awareness-training-1\n
LAST-MODIFIED:20250602T114441Z
LOCATION:online (Zoom)
URL:https://www.uni-marburg.de/en/international/news-international/events/
 2024/fit-for-germany-an-intercultural-awareness-training-1
END:VEVENT
BEGIN:VTIMEZONE
TZID:Europe/Berlin
X-LIC-LOCATION:Europe/Berlin
BEGIN:STANDARD
DTSTART:20231029T020000
TZNAME:CET
TZOFFSETFROM:+0200
TZOFFSETTO:+0100
END:STANDARD
END:VTIMEZONE
END:VCALENDAR
