BEGIN:VCALENDAR
VERSION:2.0
PRODID:-//Plone.org//NONSGML plone.app.event//EN
X-WR-TIMEZONE:Europe/Berlin
BEGIN:VEVENT
SUMMARY:Fit for Germany! An Intercultural Awareness Training
DTSTART;TZID=Europe/Berlin:20240925T133000
DTEND;TZID=Europe/Berlin:20240925T173000
DTSTAMP:20260425T033412Z
UID:83af8990bc554b84b7b4f05ef95d75ce@www.uni-marburg.de
CREATED:20240806T120948Z
DESCRIPTION:https://www.uni-marburg.de/en/international/news-international
 /events/2024/fit-for-germany-an-intercultural-awareness-training-2\nOnline
  Workshop for new Degree Seeker
LAST-MODIFIED:20250602T114820Z
LOCATION:online
URL:https://www.uni-marburg.de/en/international/news-international/events/
 2024/fit-for-germany-an-intercultural-awareness-training-2
END:VEVENT
BEGIN:VTIMEZONE
TZID:Europe/Berlin
X-LIC-LOCATION:Europe/Berlin
BEGIN:DAYLIGHT
DTSTART:20240331T030000
TZNAME:CEST
TZOFFSETFROM:+0100
TZOFFSETTO:+0200
END:DAYLIGHT
END:VTIMEZONE
END:VCALENDAR
