BEGIN:VCALENDAR
VERSION:2.0
PRODID:-//Plone.org//NONSGML plone.app.event//EN
X-WR-TIMEZONE:Europe/Berlin
BEGIN:VEVENT
SUMMARY:International regulars' table
DTSTART;TZID=Europe/Berlin:20240411T180000
DTEND;TZID=Europe/Berlin:20240411T210000
DTSTAMP:20260422T021211Z
UID:ab9d801f23454eb29ff2b0b39a1aaef6@www.uni-marburg.de
CREATED:20240405T072354Z
DESCRIPTION:https://www.uni-marburg.de/en/international/news-international
 /events/2024/international-regulars-table-1\n
LAST-MODIFIED:20250602T114823Z
LOCATION:Kneipe in Marburg
URL:https://www.uni-marburg.de/en/international/news-international/events/
 2024/international-regulars-table-1
END:VEVENT
BEGIN:VTIMEZONE
TZID:Europe/Berlin
X-LIC-LOCATION:Europe/Berlin
BEGIN:DAYLIGHT
DTSTART:20240331T030000
TZNAME:CEST
TZOFFSETFROM:+0100
TZOFFSETTO:+0200
END:DAYLIGHT
END:VTIMEZONE
END:VCALENDAR
