BEGIN:VCALENDAR
VERSION:2.0
PRODID:-//Plone.org//NONSGML plone.app.event//EN
X-WR-TIMEZONE:Europe/Berlin
BEGIN:VEVENT
SUMMARY:International Student Orientation Summer Semester 2024 - September
DTSTART;VALUE=DATE:20240902
DTEND;VALUE=DATE:20240906
DTSTAMP:20260425T155209Z
UID:54da4c3ffd644f7694b94d735671af91@www.uni-marburg.de
CREATED:20240123T151749Z
DESCRIPTION:https://www.uni-marburg.de/en/international/news-international
 /events/2024/international-student-orientation-summer-semester-2024-sept\n
LAST-MODIFIED:20250602T114439Z
LOCATION:Online and in Person
URL:https://www.uni-marburg.de/en/international/news-international/events/
 2024/international-student-orientation-summer-semester-2024-sept
END:VEVENT
END:VCALENDAR
