BEGIN:VCALENDAR
VERSION:2.0
PRODID:-//Plone.org//NONSGML plone.app.event//EN
X-WR-TIMEZONE:Europe/Berlin
BEGIN:VEVENT
SUMMARY:MarMento - Mentoring Program for International Students
DTSTART;VALUE=DATE:20241019
DTEND;VALUE=DATE:20241020
DTSTAMP:20260421T192424Z
UID:c17ed20911fd42029894ce91b3abd1e7@www.uni-marburg.de
CREATED:20240805T065730Z
DESCRIPTION:https://www.uni-marburg.de/en/international/news-international
 /events/2024/marmento-mentoring-program-for-international-students-1\nSemi
 nar on training as a mentor for international students
LAST-MODIFIED:20250602T114821Z
LOCATION:in presence and online
URL:https://www.uni-marburg.de/en/international/news-international/events/
 2024/marmento-mentoring-program-for-international-students-1
END:VEVENT
END:VCALENDAR
