BEGIN:VCALENDAR
VERSION:2.0
PRODID:-//Plone.org//NONSGML plone.app.event//EN
X-WR-TIMEZONE:Europe/Berlin
BEGIN:VEVENT
SUMMARY:MarMento - Mentoring Program for International Students
DTSTART;TZID=Europe/Berlin:20241028T130000
DTEND;TZID=Europe/Berlin:20241028T170000
DTSTAMP:20260424T074912Z
UID:7a3d3aa2e6a946dc865d75cb8d8a98ac@www.uni-marburg.de
CREATED:20240805T064654Z
DESCRIPTION:https://www.uni-marburg.de/en/international/news-international
 /events/2024/marmento-mentoring-program-for-international-students\nWorksh
 ops for Mentees
LAST-MODIFIED:20250602T114818Z
LOCATION:online
URL:https://www.uni-marburg.de/en/international/news-international/events/
 2024/marmento-mentoring-program-for-international-students
END:VEVENT
BEGIN:VTIMEZONE
TZID:Europe/Berlin
X-LIC-LOCATION:Europe/Berlin
BEGIN:STANDARD
DTSTART:20241027T020000
TZNAME:CET
TZOFFSETFROM:+0200
TZOFFSETTO:+0100
END:STANDARD
END:VTIMEZONE
END:VCALENDAR
