BEGIN:VCALENDAR
VERSION:2.0
PRODID:-//Plone.org//NONSGML plone.app.event//EN
X-WR-TIMEZONE:Europe/Berlin
BEGIN:VEVENT
SUMMARY:Master's Info Day: Orientation programs and offers for internation
 al Master's students
DTSTART;TZID=Europe/Berlin:20240607T123000
DTEND;TZID=Europe/Berlin:20240607T130000
DTSTAMP:20260421T173713Z
UID:850eb81615e446f981f2ffe773b79a87@www.uni-marburg.de
CREATED:20240227T091958Z
DESCRIPTION:https://www.uni-marburg.de/en/international/news-international
 /events/2024/master-info-day-orientation\n
LAST-MODIFIED:20250602T114827Z
LOCATION:online
URL:https://www.uni-marburg.de/en/international/news-international/events/
 2024/master-info-day-orientation
END:VEVENT
BEGIN:VTIMEZONE
TZID:Europe/Berlin
X-LIC-LOCATION:Europe/Berlin
BEGIN:DAYLIGHT
DTSTART:20240331T030000
TZNAME:CEST
TZOFFSETFROM:+0100
TZOFFSETTO:+0200
END:DAYLIGHT
END:VTIMEZONE
END:VCALENDAR
