BEGIN:VCALENDAR
VERSION:2.0
PRODID:-//Plone.org//NONSGML plone.app.event//EN
X-WR-TIMEZONE:Europe/Berlin
BEGIN:VEVENT
SUMMARY:University summer festival in the botanical garden on the Lahnberg
 e
DTSTART;TZID=Europe/Berlin:20240719T140000
DTSTAMP:20260425T194124Z
UID:a7837995811641aab15d10f3d2d55125@www.uni-marburg.de
CREATED:20240115T151212Z
DESCRIPTION:https://www.uni-marburg.de/en/international/news-international
 /events/2024/univesity-summer-festival\nThe university invites students\, 
 employees and all interested parties to the Summer Festival 2024
LAST-MODIFIED:20250602T114826Z
LOCATION:Botanical garden on the Lahnberge\, Karl-von-Frisch-Straße\, 350
 43 Marburg
URL:https://www.uni-marburg.de/en/international/news-international/events/
 2024/univesity-summer-festival
END:VEVENT
BEGIN:VTIMEZONE
TZID:Europe/Berlin
X-LIC-LOCATION:Europe/Berlin
BEGIN:DAYLIGHT
DTSTART:20240331T030000
TZNAME:CEST
TZOFFSETFROM:+0100
TZOFFSETTO:+0200
END:DAYLIGHT
END:VTIMEZONE
END:VCALENDAR
