BEGIN:VCALENDAR
VERSION:2.0
PRODID:-//Plone.org//NONSGML plone.app.event//EN
X-WR-TIMEZONE:Europe/Berlin
BEGIN:VEVENT
SUMMARY:Workshop: "Feeling Home?"
DTSTART;TZID=Europe/Berlin:20240522T171500
DTEND;TZID=Europe/Berlin:20240522T194500
DTSTAMP:20260421T032356Z
UID:2c71a19fcad7480a94e24559eddb9203@www.uni-marburg.de
CREATED:20240125T092913Z
DESCRIPTION:https://www.uni-marburg.de/en/international/news-international
 /events/2024/workshop-feeling-home\n
LAST-MODIFIED:20250602T114436Z
LOCATION:Online
URL:https://www.uni-marburg.de/en/international/news-international/events/
 2024/workshop-feeling-home
END:VEVENT
BEGIN:VTIMEZONE
TZID:Europe/Berlin
X-LIC-LOCATION:Europe/Berlin
BEGIN:DAYLIGHT
DTSTART:20240331T030000
TZNAME:CEST
TZOFFSETFROM:+0100
TZOFFSETTO:+0200
END:DAYLIGHT
END:VTIMEZONE
END:VCALENDAR
