BEGIN:VCALENDAR
VERSION:2.0
PRODID:-//Plone.org//NONSGML plone.app.event//EN
X-WR-TIMEZONE:Europe/Berlin
BEGIN:VEVENT
SUMMARY:Academic Writing in English
DTSTART;TZID=Europe/Berlin:20251127T140000
DTEND;TZID=Europe/Berlin:20251127T173000
DTSTAMP:20260423T100007Z
UID:943d2a84b6c740d3bdbed7337daf4a6b@www.uni-marburg.de
CREATED:20250825T112320Z
DESCRIPTION:https://www.uni-marburg.de/en/international/news-international
 /events/2025/academic-writing\nWorkshop for international degree-seeking s
 tudents (not exchange students)
LAST-MODIFIED:20250825T112355Z
LOCATION:Online via BigBlueButton
URL:https://www.uni-marburg.de/en/international/news-international/events/
 2025/academic-writing
END:VEVENT
BEGIN:VTIMEZONE
TZID:Europe/Berlin
X-LIC-LOCATION:Europe/Berlin
BEGIN:STANDARD
DTSTART:20251026T020000
TZNAME:CET
TZOFFSETFROM:+0200
TZOFFSETTO:+0100
END:STANDARD
END:VTIMEZONE
END:VCALENDAR
