BEGIN:VCALENDAR
VERSION:2.0
PRODID:-//Plone.org//NONSGML plone.app.event//EN
X-WR-TIMEZONE:Europe/Berlin
BEGIN:VEVENT
SUMMARY:Online Seminar: House Hunting in Marburg
DTSTART;TZID=Europe/Berlin:20250912T100000
DTEND;TZID=Europe/Berlin:20250912T120000
DTSTAMP:20260423T222512Z
UID:7a6bae13e4364c348f7853f0a4e341c5@www.uni-marburg.de
CREATED:20230207T184955Z
DESCRIPTION:https://www.uni-marburg.de/en/international/news-international
 /events/2025/accomodation-information-september25\n
LAST-MODIFIED:20250718T123606Z
LOCATION:https://webconf.hrz.uni-marburg.de/n/rooms/tme-pbk-9co-wrt/join
URL:https://www.uni-marburg.de/en/international/news-international/events/
 2025/accomodation-information-september25
END:VEVENT
BEGIN:VTIMEZONE
TZID:Europe/Berlin
X-LIC-LOCATION:Europe/Berlin
BEGIN:DAYLIGHT
DTSTART:20250330T030000
TZNAME:CEST
TZOFFSETFROM:+0100
TZOFFSETTO:+0200
END:DAYLIGHT
END:VTIMEZONE
END:VCALENDAR
