BEGIN:VCALENDAR
VERSION:2.0
PRODID:-//Plone.org//NONSGML plone.app.event//EN
X-WR-TIMEZONE:Europe/Berlin
BEGIN:VEVENT
SUMMARY:From Student to Professional – Master the Art of Networking for 
 international students
DTSTART;TZID=Europe/Berlin:20250710T140000
DTEND;TZID=Europe/Berlin:20250710T180000
DTSTAMP:20260424T224851Z
UID:7825d95249df4f98adf391cac6e633fe@www.uni-marburg.de
CREATED:20250313T075616Z
DESCRIPTION:https://www.uni-marburg.de/en/international/news-international
 /events/2025/art-of-networking\nWorkshop for degree-seeking international 
 students
LAST-MODIFIED:20250602T121044Z
LOCATION:Deutschhausstraße 11+13\, 35037 Marburg\, room +01.0010
URL:https://www.uni-marburg.de/en/international/news-international/events/
 2025/art-of-networking
END:VEVENT
BEGIN:VTIMEZONE
TZID:Europe/Berlin
X-LIC-LOCATION:Europe/Berlin
BEGIN:DAYLIGHT
DTSTART:20250330T030000
TZNAME:CEST
TZOFFSETFROM:+0100
TZOFFSETTO:+0200
END:DAYLIGHT
END:VTIMEZONE
END:VCALENDAR
