BEGIN:VCALENDAR
VERSION:2.0
PRODID:-//Plone.org//NONSGML plone.app.event//EN
X-WR-TIMEZONE:Europe/Berlin
BEGIN:VEVENT
SUMMARY:EUPeace Virtual Coffee Break
DTSTART;TZID=Europe/Berlin:20251204T090000
DTEND;TZID=Europe/Berlin:20251204T100000
DTSTAMP:20260423T170440Z
UID:28e0156d40794a83bc177d3716fffd88@www.uni-marburg.de
CATEGORIES:()
CREATED:20251103T143828Z
DESCRIPTION:https://www.uni-marburg.de/en/international/news-international
 /events/2025/eupeace-virtual-coffee-break-3\n
LAST-MODIFIED:20251103T144108Z
LOCATION:Online/ https://webconf.hrz.uni-marburg.de/n/rooms/rcu-tfg-nqs-fr
 3/join
URL:https://www.uni-marburg.de/en/international/news-international/events/
 2025/eupeace-virtual-coffee-break-3
END:VEVENT
BEGIN:VTIMEZONE
TZID:Europe/Berlin
X-LIC-LOCATION:Europe/Berlin
BEGIN:STANDARD
DTSTART:20251026T020000
TZNAME:CET
TZOFFSETFROM:+0200
TZOFFSETTO:+0100
END:STANDARD
END:VTIMEZONE
END:VCALENDAR
