BEGIN:VCALENDAR
VERSION:2.0
PRODID:-//Plone.org//NONSGML plone.app.event//EN
X-WR-TIMEZONE:Europe/Berlin
BEGIN:VEVENT
SUMMARY:EUPeace Virtual Coffee Break
DTSTART;TZID=Europe/Berlin:20251106T090000
DTEND;TZID=Europe/Berlin:20251106T100000
DTSTAMP:20260424T050845Z
UID:2e11e0171f824b9d8f7653cb34ae9b0b@www.uni-marburg.de
CREATED:20251103T140003Z
DESCRIPTION:https://www.uni-marburg.de/en/international/news-international
 /events/2025/eupeace-virtual-coffee-break\n
LAST-MODIFIED:20251103T140033Z
LOCATION:Online/ https://webconf.hrz.uni-marburg.de/n/rooms/rcu-tfg-nqs-fr
 3/join
URL:https://www.uni-marburg.de/en/international/news-international/events/
 2025/eupeace-virtual-coffee-break
END:VEVENT
BEGIN:VTIMEZONE
TZID:Europe/Berlin
X-LIC-LOCATION:Europe/Berlin
BEGIN:STANDARD
DTSTART:20251026T020000
TZNAME:CET
TZOFFSETFROM:+0200
TZOFFSETTO:+0100
END:STANDARD
END:VTIMEZONE
END:VCALENDAR
