BEGIN:VCALENDAR
VERSION:2.0
PRODID:-//Plone.org//NONSGML plone.app.event//EN
X-WR-TIMEZONE:Europe/Berlin
BEGIN:VEVENT
SUMMARY:Fit for Germany! An Intercultural Awareness Training
DTSTART;TZID=Europe/Berlin:20250327T130000
DTEND;TZID=Europe/Berlin:20250327T170000
DTSTAMP:20260425T015251Z
UID:71831ec6504b4c16b6dd4043063a6dfa@www.uni-marburg.de
CREATED:20250205T150910Z
DESCRIPTION:https://www.uni-marburg.de/en/international/news-international
 /events/2025/fit-for-germany-an-intercultural-awareness-training-german\n
LAST-MODIFIED:20250602T121041Z
LOCATION:Online Training via Zoom
URL:https://www.uni-marburg.de/en/international/news-international/events/
 2025/fit-for-germany-an-intercultural-awareness-training-german
END:VEVENT
BEGIN:VTIMEZONE
TZID:Europe/Berlin
X-LIC-LOCATION:Europe/Berlin
BEGIN:STANDARD
DTSTART:20241027T020000
TZNAME:CET
TZOFFSETFROM:+0200
TZOFFSETTO:+0100
END:STANDARD
END:VTIMEZONE
END:VCALENDAR
