BEGIN:VCALENDAR
VERSION:2.0
PRODID:-//Plone.org//NONSGML plone.app.event//EN
X-WR-TIMEZONE:Europe/Berlin
BEGIN:VEVENT
SUMMARY:From Peer to Peer: Job Search and Scholarship Advice
DTSTART;TZID=Europe/Berlin:20251013T130000
DTEND;TZID=Europe/Berlin:20251013T140000
DTSTAMP:20260425T233752Z
UID:23dd9f30550841d089d14f6d0b1acd78@www.uni-marburg.de
RRULE:FREQ=WEEKLY;UNTIL=20251219T000000;BYDAY=MO
CATEGORIES:()
CREATED:20250416T115515Z
DESCRIPTION:https://www.uni-marburg.de/en/international/news-international
 /events/2025/from-peer-to-peer-job-search-and-scholarship-advice\nFor inte
 rnational degree-seeking students (no exchange or freemover students)
LAST-MODIFIED:20251020T052017Z
LOCATION:Bunsenstraße 3\, 35037 Marburg\, rooms 410/411
URL:https://www.uni-marburg.de/en/international/news-international/events/
 2025/from-peer-to-peer-job-search-and-scholarship-advice
END:VEVENT
BEGIN:VTIMEZONE
TZID:Europe/Berlin
X-LIC-LOCATION:Europe/Berlin
BEGIN:DAYLIGHT
DTSTART:20250330T030000
TZNAME:CEST
TZOFFSETFROM:+0100
TZOFFSETTO:+0200
END:DAYLIGHT
END:VTIMEZONE
END:VCALENDAR
