BEGIN:VCALENDAR
VERSION:2.0
PRODID:-//Plone.org//NONSGML plone.app.event//EN
X-WR-TIMEZONE:Europe/Berlin
BEGIN:VEVENT
SUMMARY:From Peer to Peer: Office Hours for International Students
DTSTART;TZID=Europe/Berlin:20250115T100000
DTEND;TZID=Europe/Berlin:20250115T120000
DTSTAMP:20260424T070137Z
UID:5172861cd2ea4679b0a209202fef3f3d@www.uni-marburg.de
RRULE:FREQ=WEEKLY;UNTIL=20251217T000000;BYDAY=WE
CREATED:20231023T094929Z
DESCRIPTION:https://www.uni-marburg.de/en/international/news-international
 /events/2025/from-peer-to-peer\n
LAST-MODIFIED:20250602T121038Z
LOCATION:Campus Firmanei F ǀ 05\,  Bunsenstraße 3\,  Zimmer/room +4.0104
URL:https://www.uni-marburg.de/en/international/news-international/events/
 2025/from-peer-to-peer
END:VEVENT
BEGIN:VTIMEZONE
TZID:Europe/Berlin
X-LIC-LOCATION:Europe/Berlin
BEGIN:STANDARD
DTSTART:20241027T020000
TZNAME:CET
TZOFFSETFROM:+0200
TZOFFSETTO:+0100
END:STANDARD
END:VTIMEZONE
END:VCALENDAR
