BEGIN:VCALENDAR
VERSION:2.0
PRODID:-//Plone.org//NONSGML plone.app.event//EN
X-WR-TIMEZONE:Europe/Berlin
BEGIN:VEVENT
SUMMARY:Workshop: How to enter the German job market – A general overvie
 w about the application procedure
DTSTART;TZID=Europe/Berlin:20251121T100000
DTEND;TZID=Europe/Berlin:20251121T140000
DTSTAMP:20260426T062722Z
UID:ff01878aee6e446c92d5ee8fa3c53907@www.uni-marburg.de
CREATED:20250819T132746Z
DESCRIPTION:https://www.uni-marburg.de/en/international/news-international
 /events/2025/german-job-market\nWorkshop for international degree-seeking 
 students (not exchange students)
LAST-MODIFIED:20250819T132857Z
LOCATION:Deutschhausstr. 3\, 35037 Marburg\, Seminarraum 102 (+1/1020)
URL:https://www.uni-marburg.de/en/international/news-international/events/
 2025/german-job-market
END:VEVENT
BEGIN:VTIMEZONE
TZID:Europe/Berlin
X-LIC-LOCATION:Europe/Berlin
BEGIN:STANDARD
DTSTART:20251026T020000
TZNAME:CET
TZOFFSETFROM:+0200
TZOFFSETTO:+0100
END:STANDARD
END:VTIMEZONE
END:VCALENDAR
