BEGIN:VCALENDAR
VERSION:2.0
PRODID:-//Plone.org//NONSGML plone.app.event//EN
X-WR-TIMEZONE:Europe/Berlin
BEGIN:VEVENT
SUMMARY:HessenFonds Scholarships: Application deadline
DTSTART;VALUE=DATE:20251028
DTEND;VALUE=DATE:20260105
DTSTAMP:20260424T231902Z
UID:fb90f76792e14f19be2d164de6dc3b94@www.uni-marburg.de
CATEGORIES:()
CREATED:20240528T150702Z
DESCRIPTION:https://www.uni-marburg.de/en/international/news-international
 /events/2025/hessenfonds-deadline\n
LAST-MODIFIED:20251128T111940Z
LOCATION:https://www.uni-marburg.de/en/international/from-abroad/refugees/
 hessenfonds-scholarships
URL:https://www.uni-marburg.de/en/international/news-international/events/
 2025/hessenfonds-deadline
END:VEVENT
END:VCALENDAR
