BEGIN:VCALENDAR
VERSION:2.0
PRODID:-//Plone.org//NONSGML plone.app.event//EN
X-WR-TIMEZONE:Europe/Berlin
BEGIN:VEVENT
SUMMARY:From Peer to Peer: Housing Consultation
DTSTART;TZID=Europe/Berlin:20251022T150000
DTEND;TZID=Europe/Berlin:20251022T170000
DTSTAMP:20260425T030139Z
UID:c81b8b63e248472fac55f1d3bc96d681@www.uni-marburg.de
RRULE:FREQ=WEEKLY;UNTIL=20270122T000000;BYDAY=WE
CATEGORIES:()
CREATED:20231023T094929Z
DESCRIPTION:https://www.uni-marburg.de/en/international/news-international
 /events/2025/housing-consultation\nOpen Counselling for International Stud
 ents
LAST-MODIFIED:20260122T125436Z
LOCATION:Campus Firmanei F ǀ 05\,  Bunsenstraße 3\,  Zimmer/room +4.0110
  (411)
URL:https://www.uni-marburg.de/en/international/news-international/events/
 2025/housing-consultation
END:VEVENT
BEGIN:VTIMEZONE
TZID:Europe/Berlin
X-LIC-LOCATION:Europe/Berlin
BEGIN:DAYLIGHT
DTSTART:20260329T030000
TZNAME:CEST
TZOFFSETFROM:+0100
TZOFFSETTO:+0200
END:DAYLIGHT
END:VTIMEZONE
END:VCALENDAR
