BEGIN:VCALENDAR
VERSION:2.0
PRODID:-//Plone.org//NONSGML plone.app.event//EN
X-WR-TIMEZONE:Europe/Berlin
BEGIN:VEVENT
SUMMARY:How to Make the Most of Your Internship
DTSTART;TZID=Europe/Berlin:20250506T100000
DTEND;TZID=Europe/Berlin:20250506T130000
DTSTAMP:20260423T062507Z
UID:8040b08aee3441168f76a1dc741a4d0b@www.uni-marburg.de
CREATED:20250304T130032Z
DESCRIPTION:https://www.uni-marburg.de/en/international/news-international
 /events/2025/internship\nWorkshop for international degree-seeking student
 s
LAST-MODIFIED:20250602T121048Z
LOCATION:Online via BigBlueButton (link will be sent after registration)
URL:https://www.uni-marburg.de/en/international/news-international/events/
 2025/internship
END:VEVENT
BEGIN:VTIMEZONE
TZID:Europe/Berlin
X-LIC-LOCATION:Europe/Berlin
BEGIN:DAYLIGHT
DTSTART:20250330T030000
TZNAME:CEST
TZOFFSETFROM:+0100
TZOFFSETTO:+0200
END:DAYLIGHT
END:VTIMEZONE
END:VCALENDAR
