BEGIN:VCALENDAR
VERSION:2.0
PRODID:-//Plone.org//NONSGML plone.app.event//EN
X-WR-TIMEZONE:Europe/Berlin
BEGIN:VEVENT
SUMMARY:Kick-off Event: eMarMento for Winter 25/26
DTSTART;TZID=Europe/Berlin:20251023T170000
DTSTAMP:20260425T214634Z
UID:c1476238990a46348ce250a175435252@www.uni-marburg.de
CATEGORIES:()
CREATED:20251022T170609Z
DESCRIPTION:https://www.uni-marburg.de/en/international/news-international
 /events/2025/kick-off-event-emarmento-for-winter-25-26\n
LAST-MODIFIED:20251022T171401Z
LOCATION:marmento@uni-marburg.de
URL:https://www.uni-marburg.de/en/international/news-international/events/
 2025/kick-off-event-emarmento-for-winter-25-26
END:VEVENT
BEGIN:VTIMEZONE
TZID:Europe/Berlin
X-LIC-LOCATION:Europe/Berlin
BEGIN:DAYLIGHT
DTSTART:20250330T030000
TZNAME:CEST
TZOFFSETFROM:+0100
TZOFFSETTO:+0200
END:DAYLIGHT
END:VTIMEZONE
END:VCALENDAR
