BEGIN:VCALENDAR
VERSION:2.0
PRODID:-//Plone.org//NONSGML plone.app.event//EN
X-WR-TIMEZONE:Europe/Berlin
BEGIN:VEVENT
SUMMARY:Learning to Learn: Discovering and Exploring (new) Learning Strate
 gies
DTSTART;TZID=Europe/Berlin:20250624T140000
DTEND;TZID=Europe/Berlin:20250624T170000
DTSTAMP:20260423T062750Z
UID:9066a72bb0a842b7b033142ffed02fce@www.uni-marburg.de
CREATED:20250304T124324Z
DESCRIPTION:https://www.uni-marburg.de/en/international/news-international
 /events/2025/learning-to-learn\nWorkshop for degree-seeking international 
 students
LAST-MODIFIED:20250602T121047Z
LOCATION:Online via BigBlueButton (Link will be sent after registration)
URL:https://www.uni-marburg.de/en/international/news-international/events/
 2025/learning-to-learn
END:VEVENT
BEGIN:VTIMEZONE
TZID:Europe/Berlin
X-LIC-LOCATION:Europe/Berlin
BEGIN:DAYLIGHT
DTSTART:20250330T030000
TZNAME:CEST
TZOFFSETFROM:+0100
TZOFFSETTO:+0200
END:DAYLIGHT
END:VTIMEZONE
END:VCALENDAR
