BEGIN:VCALENDAR
VERSION:2.0
PRODID:-//Plone.org//NONSGML plone.app.event//EN
X-WR-TIMEZONE:Europe/Berlin
BEGIN:VEVENT
SUMMARY:Speak like a Pro: Public Speaking and Presentation Skills for Acad
 emic and Career Success
DTSTART;TZID=Europe/Berlin:20250428T140000
DTEND;TZID=Europe/Berlin:20250428T180000
DTSTAMP:20260426T015550Z
UID:0cfd83c41b9942e1b0bcbe923c06c9e5@www.uni-marburg.de
CREATED:20250304T123327Z
DESCRIPTION:https://www.uni-marburg.de/en/international/news-international
 /events/2025/speak-like-a-pro-public-speaking-and-presentation-skills-for-
 academic-and-career-success\n
LAST-MODIFIED:20250602T121043Z
LOCATION:Deutschhausstraße 11+13\, 35037 Marburg\, room +01.0010
URL:https://www.uni-marburg.de/en/international/news-international/events/
 2025/speak-like-a-pro-public-speaking-and-presentation-skills-for-academic
 -and-career-success
END:VEVENT
BEGIN:VTIMEZONE
TZID:Europe/Berlin
X-LIC-LOCATION:Europe/Berlin
BEGIN:DAYLIGHT
DTSTART:20250330T030000
TZNAME:CEST
TZOFFSETFROM:+0100
TZOFFSETTO:+0200
END:DAYLIGHT
END:VTIMEZONE
END:VCALENDAR
