BEGIN:VCALENDAR
VERSION:2.0
PRODID:-//Plone.org//NONSGML plone.app.event//EN
X-WR-TIMEZONE:Europe/Berlin
BEGIN:VEVENT
SUMMARY:Tutorial for International Master Students of Informatics and Math
 ematics
DTSTART;TZID=Europe/Berlin:20250606T110000
DTEND;TZID=Europe/Berlin:20250606T140000
DTSTAMP:20260423T061832Z
UID:c7a443d9d6ef4cf09cdf97b0ee93c2dd@www.uni-marburg.de
RRULE:FREQ=DAILY;COUNT=1
RDATE;TZID=Europe/Berlin:20250612T110000,20250613T110000,20250627T110000,2
 0250703T110000,20250704T110000
CREATED:20250424T082800Z
DESCRIPTION:https://www.uni-marburg.de/en/international/news-international
 /events/2025/tutorial-informatics-and-mathematics\nTutorial for internatio
 nal degree-seeking students from department 12
LAST-MODIFIED:20250602T125306Z
LOCATION:Online (only the 1st session in presence)
URL:https://www.uni-marburg.de/en/international/news-international/events/
 2025/tutorial-informatics-and-mathematics
END:VEVENT
BEGIN:VTIMEZONE
TZID:Europe/Berlin
X-LIC-LOCATION:Europe/Berlin
BEGIN:DAYLIGHT
DTSTART:20250330T030000
TZNAME:CEST
TZOFFSETFROM:+0100
TZOFFSETTO:+0200
END:DAYLIGHT
END:VTIMEZONE
END:VCALENDAR
