BEGIN:VCALENDAR
VERSION:2.0
PRODID:-//Plone.org//NONSGML plone.app.event//EN
X-WR-TIMEZONE:Europe/Berlin
BEGIN:VEVENT
SUMMARY:Shaping the Future at Weber – Mechanical Engineering meets Food 
 Technology
DTSTART;TZID=Europe/Berlin:20251031T100000
DTEND;TZID=Europe/Berlin:20251031T120000
DTSTAMP:20260424T091523Z
UID:a24d69daff7f441187843fecd37a57de@www.uni-marburg.de
CATEGORIES:()
CREATED:20250930T130034Z
DESCRIPTION:https://www.uni-marburg.de/en/international/news-international
 /events/2025/weber-food-technology\nCompany Presentation for international
  students
LAST-MODIFIED:20250930T130115Z
LOCATION:Online via BigBlueButton
URL:https://www.uni-marburg.de/en/international/news-international/events/
 2025/weber-food-technology
END:VEVENT
BEGIN:VTIMEZONE
TZID:Europe/Berlin
X-LIC-LOCATION:Europe/Berlin
BEGIN:STANDARD
DTSTART:20251026T020000
TZNAME:CET
TZOFFSETFROM:+0200
TZOFFSETTO:+0100
END:STANDARD
END:VTIMEZONE
END:VCALENDAR
